BEGIN:VCALENDAR
VERSION:2.0
PRODID:-//ChamberMaster//Event Calendar 2.0//EN
METHOD:PUBLISH
X-PUBLISHED-TTL:P3D
REFRESH-INTERVAL:P3D
CALSCALE:GREGORIAN
BEGIN:VEVENT
DTSTART:20180810T233000Z
DTEND:20180811T010000Z
X-MICROSOFT-CDO-ALLDAYEVENT:FALSE
SUMMARY:Topographies: Opening Reception for Alyssa Bliven and Eleanor Heimbaugh
DESCRIPTION:Installations by Alyssa Bliven and Eleanor Heimbaugh These artists create objects and collections of objects that create a space where we have the experience of encountering physical reality as if for the first time. By re-contextualizing everyday objects the artists open our eyes to a pre-lingual\, pre-cognitive\, perception of the world around us. "This is art that stimulates the imagination\; it's art that makes us think about the world and the things we normally take for granted in a brand-new way." -Dave Barnes\, Gallery Director
X-ALT-DESC;FMTTYPE=text/html:Installations by Alyssa Bliven and Eleanor Heimbaugh These artists create objects and collections of objects that create a space where we have the experience of encountering physical reality as if for the first time. By re-contextualizing everyday objects the artists open our eyes to a pre-lingual\, pre-cognitive\, perception of the world around us. &ldquo\;This is art that stimulates the imagination\; it&rsquo\;s art that makes us think about the world and the things we normally take for granted in a brand-new way.&rdquo\; -Dave Barnes\, Gallery Director
LOCATION:Shafer Art Gallery 245 Ne 30 Rd Great Bend\, KS\, 67530
UID:e.2303.6126
SEQUENCE:3
DTSTAMP:20260420T122417Z
URL:https://members.greatbend.org/events/details/topographies-opening-reception-for-alyssa-bliven-and-eleanor-heimbaugh-6126
END:VEVENT

END:VCALENDAR
