BEGIN:VCALENDAR
VERSION:2.0
PRODID:-//ChamberMaster//Event Calendar 2.0//EN
METHOD:PUBLISH
X-PUBLISHED-TTL:P3D
REFRESH-INTERVAL:P3D
CALSCALE:GREGORIAN
BEGIN:VEVENT
DTSTART:20201027T150000Z
DTEND:20201027T170000Z
X-MICROSOFT-CDO-ALLDAYEVENT:FALSE
SUMMARY:Trick or Treat at the Library
DESCRIPTION:Visit us in your costume to grab a treat on Tuesday the 27th from 10-12. We can't wait to see all the amazing fun and spooky costumes this year!
X-ALT-DESC;FMTTYPE=text/html:Visit us in your costume to grab a treat on Tuesday the 27th from 10-12. We can&#39\;t wait to see all the amazing fun and spooky costumes this year!
LOCATION:Great Bend Public Library
UID:e.2303.8081
SEQUENCE:3
DTSTAMP:20260425T104957Z
URL:https://members.greatbend.org/events/details/trick-or-treat-at-the-library-8081
END:VEVENT

END:VCALENDAR
