BEGIN:VCALENDAR
VERSION:2.0
PRODID:-//ChamberMaster//Event Calendar 2.0//EN
METHOD:PUBLISH
X-PUBLISHED-TTL:P3D
REFRESH-INTERVAL:P3D
CALSCALE:GREGORIAN
BEGIN:VEVENT
DTSTART:20170821T154500Z
DTEND:20170821T171500Z
X-MICROSOFT-CDO-ALLDAYEVENT:FALSE
SUMMARY:USD 428 Business Showcase
DESCRIPTION:The Great Bend Chamber of Commerce & Economic Development in partnership with USD 428\, will facilitate the 3rd Annual Great Bend Business Showcase\, a teacher appreciation event. The showcase will take place Monday\, August 21st from 10:45 a.m. to 12:15 p.m. in the Panther Activity Center (PAC) at Great Bend High School\, and will be open to the 700+ employees of USD 428.\n\n\n\nThis opportunity is available only to members of the Great Bend Chamber of Commerce & Economic Development. There is no cost to reserve an exhibit space\, and each company is provided with one six-foot table and two chairs. \n\n\n\nThis event gives businesses an opportunity to showcase their products and services to the 700+ employees of the school district\, while expressing appreciation for the dedication shown by the teachers and staff as they kick-off the school year.\n\n\n\nEXHIBIT COST: FREE for Chamber Members!\n\nRegister Online: https://fs23.formsite.com/abauer/form20/index.html
X-ALT-DESC;FMTTYPE=text/html:<span style="color:#0D0600\;"><span style="font-family:georgia\,serif\;"><span style="font-size:10.0pt\;">The Great Bend Chamber of Commerce &amp\; Economic Development in partnership with USD 428\, will facilitate the 3rd Annual Great Bend Business Showcase\, a teacher appreciation event. The showcase will take place Monday\, August 21st from 10:45 a.m. to 12:15 p.m. in the Panther Activity Center (PAC) at Great Bend High School\, and will be open to the 700+ employees of USD 428.<br />\n<br />\nThis opportunity is available only to members of the Great Bend Chamber of Commerce &amp\; Economic Development. There is no cost to reserve an exhibit space\, and each company is provided with one six-foot table and two chairs.&nbsp\;<br />\n<br />\nThis event gives businesses an opportunity to showcase their products and services to the 700+ employees of the school district\, while expressing appreciation for the dedication shown by the teachers and staff as they kick-off the school year.<br />\n<br />\nEXHIBIT COST: FREE for Chamber Members!<br />\nRegister Online: https://fs23.formsite.com/abauer/form20/index.html</span></span></span>
LOCATION:Great Bend High School Panther Activity Center (PAC) 2027 Morton
UID:e.2303.1838
SEQUENCE:3
DTSTAMP:20260422T155441Z
URL:https://members.greatbend.org/events/details/usd-428-business-showcase-1838
END:VEVENT

END:VCALENDAR
