BEGIN:VCALENDAR
VERSION:2.0
PRODID:-//ChamberMaster//Event Calendar 2.0//EN
METHOD:PUBLISH
X-PUBLISHED-TTL:P3D
REFRESH-INTERVAL:P3D
CALSCALE:GREGORIAN
BEGIN:VEVENT
DTSTART;VALUE=DATE:20230313
DTEND;VALUE=DATE:20230318
TRANSP:TRANSPARENT
X-MICROSOFT-CDO-ALLDAYEVENT:TRUE
SUMMARY:USD 428 - Spring Break\, No School
DESCRIPTION:
X-ALT-DESC;FMTTYPE=text/html:
LOCATION:Great Bend USD 428 - All Schools
UID:e.2303.10911
SEQUENCE:3
DTSTAMP:20260424T155254Z
URL:https://members.greatbend.org/events/details/usd-428-spring-break-no-school-10911
END:VEVENT

END:VCALENDAR
