BEGIN:VCALENDAR
VERSION:2.0
PRODID:-//ChamberMaster//Event Calendar 2.0//EN
METHOD:PUBLISH
X-PUBLISHED-TTL:P3D
REFRESH-INTERVAL:P3D
CALSCALE:GREGORIAN
BEGIN:VEVENT
DTSTART:20230219T153000Z
DTEND:20230219T180000Z
X-MICROSOFT-CDO-ALLDAYEVENT:FALSE
SUMMARY:VFW 3111 Brunch
DESCRIPTION:Pancakes\, Sausage\, Bacon\, Ham\, Scrambled Eggs\, Biscuits & Gravy\, Hashbrowns\, Omelets Made To Order\, Coffee & Juice\, Bloody Mary Bar & Mimosas
X-ALT-DESC;FMTTYPE=text/html:Pancakes\, Sausage\, Bacon\, Ham\, Scrambled Eggs\, Biscuits &amp\; Gravy\, Hashbrowns\, Omelets Made To Order\, Coffee &amp\; Juice\, Bloody Mary Bar &amp\; Mimosas
LOCATION:VFW Post 3111 504 Washington Great Bend\, KS 67530
UID:e.2303.11614
SEQUENCE:3
DTSTAMP:20260424T220141Z
URL:https://members.greatbend.org/events/details/vfw-3111-brunch-11614
END:VEVENT

END:VCALENDAR
