BEGIN:VCALENDAR
VERSION:2.0
PRODID:-//ChamberMaster//Event Calendar 2.0//EN
METHOD:PUBLISH
X-PUBLISHED-TTL:P3D
REFRESH-INTERVAL:P3D
CALSCALE:GREGORIAN
BEGIN:VEVENT
DTSTART:20220717T143000Z
DTEND:20220717T173000Z
X-MICROSOFT-CDO-ALLDAYEVENT:FALSE
SUMMARY:VFW Brunch
DESCRIPTION:Sunday Brunch at the VFW Bacon\, Sausage\, Scrambled Eggs\, Breakfast Potatoes\, Pancakes\, Biscuits & Gravy Coffee & Juice
X-ALT-DESC;FMTTYPE=text/html:Sunday Brunch at the VFW Bacon\, Sausage\, Scrambled Eggs\, Breakfast Potatoes\, Pancakes\, Biscuits &amp\; Gravy Coffee &amp\; Juice
LOCATION:VFW Post 3111 504 Washington Great Bend
UID:e.2303.9422
SEQUENCE:3
DTSTAMP:20260423T045846Z
URL:https://members.greatbend.org/events/details/vfw-brunch-07-17-2022-9422
END:VEVENT

END:VCALENDAR
