BEGIN:VCALENDAR
VERSION:2.0
PRODID:-//ChamberMaster//Event Calendar 2.0//EN
METHOD:PUBLISH
X-PUBLISHED-TTL:P3D
REFRESH-INTERVAL:P3D
CALSCALE:GREGORIAN
BEGIN:VEVENT
DTSTART:20170429T143000Z
DTEND:20170429T203000Z
X-MICROSOFT-CDO-ALLDAYEVENT:FALSE
SUMMARY:VFW Post 3111 Blood Drive
DESCRIPTION:Red Cross Blood Drive \n\nAppointments required at this particular blood drive
X-ALT-DESC;FMTTYPE=text/html:<span style="color: rgb(13\, 6\, 0)\; font-family: Georgia\; font-size: 13.3333px\;">Red Cross Blood Drive&nbsp\;</span><br style="color: rgb(13\, 6\, 0)\; font-family: Georgia\; font-size: 13.3333px\;" />\n<span style="color: rgb(13\, 6\, 0)\; font-family: Georgia\; font-size: 13.3333px\;">Appointments required at this particular blood drive</span>
LOCATION:VFW Post 3111-Bingo Hall 504 Washington St Great Bend\, KS 67530
UID:e.2303.1227
SEQUENCE:3
DTSTAMP:20260422T221507Z
URL:https://members.greatbend.org/events/details/vfw-post-3111-blood-drive-1227
END:VEVENT

END:VCALENDAR
