BEGIN:VCALENDAR
VERSION:2.0
PRODID:-//ChamberMaster//Event Calendar 2.0//EN
METHOD:PUBLISH
X-PUBLISHED-TTL:P3D
REFRESH-INTERVAL:P3D
CALSCALE:GREGORIAN
BEGIN:VEVENT
DTSTART;VALUE=DATE:20170624
DTEND;VALUE=DATE:20170625
TRANSP:TRANSPARENT
X-MICROSOFT-CDO-ALLDAYEVENT:TRUE
SUMMARY:VFW Post 3111 Blood Drive
DESCRIPTION:American Red Cross Blood Drive Hosted by VFW Post 3111
X-ALT-DESC;FMTTYPE=text/html:<span style="color: rgb(13\, 6\, 0)\; font-family: Georgia\; font-size: 13.3333px\;">American Red Cross Blood Drive Hosted by VFW Post 3111</span>
LOCATION:VFW Post 3111 - Bingo Hall 504 Washington St.
UID:e.2303.2822
SEQUENCE:3
DTSTAMP:20260422T184450Z
URL:https://members.greatbend.org/events/details/vfw-post-3111-blood-drive-2822
END:VEVENT

END:VCALENDAR
