BEGIN:VCALENDAR
VERSION:2.0
PRODID:-//ChamberMaster//Event Calendar 2.0//EN
METHOD:PUBLISH
X-PUBLISHED-TTL:P3D
REFRESH-INTERVAL:P3D
CALSCALE:GREGORIAN
BEGIN:VEVENT
DTSTART:20170826T150000Z
DTEND:20170826T210000Z
X-MICROSOFT-CDO-ALLDAYEVENT:FALSE
SUMMARY:VFW Post 3111 Blood Drive
DESCRIPTION:American Red Cross Blood Drive
X-ALT-DESC;FMTTYPE=text/html:<span style="color: rgb(13\, 6\, 0)\; font-family: Georgia\; font-size: 13.3333px\;">American Red Cross Blood Drive</span>
LOCATION:VFW Post #3111 504 Washington Street Great Bend\, Kansas
UID:e.2303.3334
SEQUENCE:3
DTSTAMP:20260422T155410Z
URL:https://members.greatbend.org/events/details/vfw-post-3111-blood-drive-3334
END:VEVENT

END:VCALENDAR
