BEGIN:VCALENDAR
VERSION:2.0
PRODID:-//ChamberMaster//Event Calendar 2.0//EN
METHOD:PUBLISH
X-PUBLISHED-TTL:P3D
REFRESH-INTERVAL:P3D
CALSCALE:GREGORIAN
BEGIN:VEVENT
DTSTART:20220709T020000Z
DTEND:20220708T060000Z
X-MICROSOFT-CDO-ALLDAYEVENT:FALSE
SUMMARY:VFW Post 3111 Karaoke Night!
DESCRIPTION:
X-ALT-DESC;FMTTYPE=text/html:
LOCATION:504 Washington St.
UID:e.2303.9390
SEQUENCE:3
DTSTAMP:20260423T050025Z
URL:https://members.greatbend.org/events/details/vfw-post-3111-karaoke-night-07-08-2022-9390
END:VEVENT

END:VCALENDAR
