BEGIN:VCALENDAR
VERSION:2.0
PRODID:-//ChamberMaster//Event Calendar 2.0//EN
METHOD:PUBLISH
X-PUBLISHED-TTL:P3D
REFRESH-INTERVAL:P3D
CALSCALE:GREGORIAN
BEGIN:VEVENT
DTSTART:20240406T170000Z
DTEND:20240406T190000Z
X-MICROSOFT-CDO-ALLDAYEVENT:FALSE
SUMMARY:Victory Garden Workshop
DESCRIPTION:Learn how to set up a raised bed using the "square foot gardening" grid style planting technique. Highlighting: cultivars recommended for raised bed gardens\, season extension and watering techniques.\n\n\n\nRegister HERE on the Barton County Conservation District Event Page on Facebook.
X-ALT-DESC;FMTTYPE=text/html:<span style="font-size:18px\;"><span segoe="" style="color: rgb(5\, 5\, 5)\; font-family: " ui="">Learn how to set up a raised bed using the &quot\;square foot gardening&quot\; grid style planting technique. Highlighting: cultivars recommended for raised bed gardens\, season extension and watering techniques.<br />\n<br />\nRegister <a href="https://www.facebook.com/events/1599660767533030?ref=newsfeed"><strong>HERE</strong></a> on the Barton County Conservation District Event Page on Facebook.</span></span>
LOCATION:Barton County Historical Village 85 US 281 Great Bend\, KS 67530
UID:e.2303.13562
SEQUENCE:3
DTSTAMP:20260425T234234Z
URL:https://members.greatbend.org/events/details/victory-garden-workshop-13562
END:VEVENT

END:VCALENDAR
