BEGIN:VCALENDAR
VERSION:2.0
PRODID:-//ChamberMaster//Event Calendar 2.0//EN
METHOD:PUBLISH
X-PUBLISHED-TTL:P3D
REFRESH-INTERVAL:P3D
CALSCALE:GREGORIAN
BEGIN:VEVENT
DTSTART;VALUE=DATE:20201030
DTEND;VALUE=DATE:20201031
TRANSP:TRANSPARENT
X-MICROSOFT-CDO-ALLDAYEVENT:TRUE
SUMMARY:Virtual Halloween Escape Room
DESCRIPTION:Can you survive the haunted mansion? Try your luck in our virtual escape room\, available starting the day before Halloween. Presented by the Teen Spot\, open to anyone who wants to play\, recommended age is grade 6 and up
X-ALT-DESC;FMTTYPE=text/html:Can you survive the haunted mansion? Try your luck in our virtual escape room\, available starting the day before Halloween. Presented by the Teen Spot\, open to anyone who wants to play\, recommended age is grade 6 and up
LOCATION:Online
UID:e.2303.8084
SEQUENCE:3
DTSTAMP:20260425T104900Z
URL:https://members.greatbend.org/events/details/virtual-halloween-escape-room-8084
END:VEVENT

END:VCALENDAR
