BEGIN:VCALENDAR
VERSION:2.0
PRODID:-//ChamberMaster//Event Calendar 2.0//EN
METHOD:PUBLISH
X-PUBLISHED-TTL:P3D
REFRESH-INTERVAL:P3D
CALSCALE:GREGORIAN
BEGIN:VEVENT
DTSTART:20171217T190000Z
DTEND:20171218T000000Z
X-MICROSOFT-CDO-ALLDAYEVENT:FALSE
SUMMARY:Visit Santa!
DESCRIPTION:Visit Santa Claus and tour the Santas Around the World. Our Santa & the Santas Display gives special thanks to Rosewood Services for the donation of the space and to Volunteers In Action/RSVP for the time devoted to staffing the facility.
X-ALT-DESC;FMTTYPE=text/html:Visit Santa Claus and tour the Santas Around the World. Our Santa &amp\; the Santas Display gives special thanks to Rosewood Services for the donation of the space and to Volunteers In Action/RSVP for the time devoted to staffing the facility.
LOCATION:1221 Main St.
UID:e.2303.3512
SEQUENCE:3
DTSTAMP:20260422T092532Z
URL:https://members.greatbend.org/events/details/visit-santa-12-17-2017-3512
END:VEVENT

END:VCALENDAR
