BEGIN:VCALENDAR
VERSION:2.0
PRODID:-//ChamberMaster//Event Calendar 2.0//EN
METHOD:PUBLISH
X-PUBLISHED-TTL:P3D
REFRESH-INTERVAL:P3D
CALSCALE:GREGORIAN
BEGIN:VEVENT
DTSTART:20201017T140000Z
DTEND:20201017T223000Z
X-MICROSOFT-CDO-ALLDAYEVENT:FALSE
SUMMARY:Walk to end Alzheimer’s
DESCRIPTION:The 2020 Walk to End Alzheimer's - Great Bend\, KS is this weekend! Here is how you can participate on Walk day:\n\nVisit the Walk details page on our website and launch the Opening and Promise Garden Ceremony to hear from participants in our local community and their reasons for joining the fight to end Alzheimer's.\n\nThen\, grab your Walk flags\, get outside\, open your mobile app and tap "Start" to begin counting your steps and listening to stories from Alzheimer's Association Celebrity Champions while you walk.\n\nOnce you've finished walking\, visit the view-only planted Promise Garden   a visual representation of all those impacted by Alzheimer's in your community.\n\nThank you for all you are doing to help #ENDALZ!\n\nP.S. Remember we are fundraising ---Every dollar you raise helps advance the care\, support and research efforts of the Alzheimer's Association.\n\n*All participants should follow CDC guidelines and local health recommendations when deciding to walk with those outside of their household.
X-ALT-DESC;FMTTYPE=text/html:The 2020 Walk to End Alzheimer&#39\;s - Great Bend\, KS is this weekend! Here is how you can participate on Walk day:<br />\nVisit the&nbsp\;<a href="https://act.alz.org/site/R?i=6Gb4WtgsXXwFx4wMQeucvA" target="_blank"><span style="text-decoration:none\;text-underline:none\;"><span style="color:windowtext\;">Walk details page</span></span></a>&nbsp\;on our website and launch the Opening and Promise Garden Ceremony to hear from participants in our local community and their reasons for joining the fight to end Alzheimer&rsquo\;s.<br />\nThen\, grab your Walk flags\, get outside\, open your&nbsp\;<a href="https://act.alz.org/site/R?i=nJDjN4xdC2dHybWzZ222sw" target="_blank"><span style="text-decoration:none\;text-underline:none\;"><span style="color:windowtext\;">mobile app</span></span></a>&nbsp\;and tap &ldquo\;Start&rdquo\; to begin counting your steps and listening to stories from Alzheimer&rsquo\;s Association Celebrity Champions while you walk.<br />\nOnce you&rsquo\;ve finished walking\, visit the view-only planted Promise Garden &mdash\; a visual representation of all those impacted by Alzheimer&rsquo\;s in your community.<br />\nThank you for all you are doing to help #ENDALZ!<br />\nP.S. Remember we are fundraising ---Every dollar you raise helps advance the care\, support and research efforts of the Alzheimer&rsquo\;s Association.<br />\n*All participants should follow CDC guidelines and local health recommendations when deciding to walk with those outside of their household.<br />\n&nbsp\;\n<table border="0" cellpadding="0" cellspacing="0" style="color: rgb(34\, 34\, 34)\; font-family: Arial\, Helvetica\, sans-serif\; font-size: small\; width: 710px\; background-image: initial\; background-position: initial\; background-size: initial\; background-repeat: initial\; background-attachment: initial\; background-origin: initial\; background-clip: initial\; border-collapse: collapse\;" width="100%">\n	<tbody>\n	</tbody>\n</table>\n
LOCATION:Jack Kilby Square
UID:e.2303.8075
SEQUENCE:3
DTSTAMP:20260425T123451Z
URL:https://members.greatbend.org/events/details/walk-to-end-alzheimer-s-8075
END:VEVENT

END:VCALENDAR
