BEGIN:VCALENDAR
VERSION:2.0
PRODID:-//ChamberMaster//Event Calendar 2.0//EN
METHOD:PUBLISH
X-PUBLISHED-TTL:P3D
REFRESH-INTERVAL:P3D
CALSCALE:GREGORIAN
BEGIN:VEVENT
DTSTART:20201031T230000Z
DTEND:20201101T020000Z
X-MICROSOFT-CDO-ALLDAYEVENT:FALSE
SUMMARY:Walnut Bowl Trunk and Treat
DESCRIPTION:Walnut Bowl presents first ever Trunk and Treat!\n\nOctober 31st from 6:00-9:00 pm\n\nTrick or Treat in the parking lot!!\n\nDiscounts for COSMIC and Mini Golf for those in Costume\n\nAll Ages Welcome!!!!\n\nBeware of the Golf Ghosts!!!
X-ALT-DESC;FMTTYPE=text/html:Walnut Bowl presents first ever Trunk and Treat!<br />\nOctober 31st from 6:00-9:00 pm<br />\nTrick or Treat in the parking lot!!<br />\nDiscounts for COSMIC and Mini Golf for those in Costume<br />\nAll Ages Welcome!!!!<br />\nBeware of the Golf Ghosts!!!&nbsp\;&nbsp\;&nbsp\;&nbsp\;&nbsp\;&nbsp\;&nbsp\;&nbsp\;
LOCATION:Walnut Bowl 3101 Washington Great Bend\, Kansas
UID:e.2303.8070
SEQUENCE:3
DTSTAMP:20260425T123438Z
URL:https://members.greatbend.org/events/details/walnut-bowl-trunk-and-treat-8070
END:VEVENT

END:VCALENDAR
