BEGIN:VCALENDAR
VERSION:2.0
PRODID:-//ChamberMaster//Event Calendar 2.0//EN
METHOD:PUBLISH
X-PUBLISHED-TTL:P3D
REFRESH-INTERVAL:P3D
CALSCALE:GREGORIAN
BEGIN:VEVENT
DTSTART:20180224T180000Z
DTEND:20180225T000000Z
X-MICROSOFT-CDO-ALLDAYEVENT:FALSE
SUMMARY:Warhammer 40\,000 League
DESCRIPTION:Did you like to paint tanks or planes as a kid? Warhammer 40\,000 pits the Space Marines against the races of the galaxy in the fight for human survival through tabletop miniatures. If you want to model\, assemble or paint minatures and like tactical war games\, this tabletop league is for you! Come join our Warhammer Escalation League for good games and hobby growth support! Check out our player group to get connected to see work in progress painting pictures\, league challenges\, arrange for games and more! https://www.facebook.com/groups/766606380180113/
X-ALT-DESC;FMTTYPE=text/html:Did you like to paint tanks or planes as a kid? Warhammer 40\,000 pits the Space Marines against the races of the galaxy in the fight for human survival through tabletop miniatures. If you want to model\, assemble or paint minatures and like tactical war games\, this tabletop league is for you! Come join our Warhammer Escalation League for good games and hobby growth support! Check out our player group to get connected to see work in progress painting pictures\, league challenges\, arrange for games and more! https://www.facebook.com/groups/766606380180113/
LOCATION:1401 Main
UID:e.2303.3624
SEQUENCE:3
DTSTAMP:20260422T082140Z
URL:https://members.greatbend.org/events/details/warhammer-40-000-league-3624
END:VEVENT

END:VCALENDAR
