BEGIN:VCALENDAR
VERSION:2.0
PRODID:-//ChamberMaster//Event Calendar 2.0//EN
METHOD:PUBLISH
X-PUBLISHED-TTL:P3D
REFRESH-INTERVAL:P3D
CALSCALE:GREGORIAN
BEGIN:VEVENT
DTSTART:20170423T190000Z
DTEND:20170423T210000Z
X-MICROSOFT-CDO-ALLDAYEVENT:FALSE
SUMMARY:"Watching Young Artists Grow" show
DESCRIPTION:The annual "Watching Young Artists Grow" show\, featuring the artworks by elementary and middle school students of USD #428\, will be on display at the Barton County Historical Society Museum\, 81 S. US Hwy. 281\, Great Bend\, during the month of April.\n\n\n\nThe exhibit is co-sponsored by the Barton County Arts Council and the Barton County Historical Society.\n\n\n\nA reception for the students\, their families\, and guests will be held Sunday\, April 23rd\, from 2-4 pm. Refreshments will be provided.
X-ALT-DESC;FMTTYPE=text/html:<span style="color: rgb(13\, 6\, 0)\; font-family: Georgia\; font-size: 13.3333px\;">The annual &quot\;Watching Young Artists Grow&quot\; show\, featuring the artworks by elementary and middle school students of USD #428\, will be on display at the Barton County Historical Society Museum\, 81 S. US Hwy. 281\, Great Bend\, during the month of April.</span><br style="color: rgb(13\, 6\, 0)\; font-family: Georgia\; font-size: 13.3333px\;" />\n<br style="color: rgb(13\, 6\, 0)\; font-family: Georgia\; font-size: 13.3333px\;" />\n<span style="color: rgb(13\, 6\, 0)\; font-family: Georgia\; font-size: 13.3333px\;">The exhibit is co-sponsored by the Barton County Arts Council and the Barton County Historical Society.</span><br style="color: rgb(13\, 6\, 0)\; font-family: Georgia\; font-size: 13.3333px\;" />\n<br style="color: rgb(13\, 6\, 0)\; font-family: Georgia\; font-size: 13.3333px\;" />\n<span style="color: rgb(13\, 6\, 0)\; font-family: Georgia\; font-size: 13.3333px\;">A reception for the students\, their families\, and guests will be held Sunday\, April 23rd\, from 2-4 pm. Refreshments will be provided.</span>
LOCATION:Barton County Historical Society Museum 81 S. US Hwy. 281 Great Bend
UID:e.2303.1014
SEQUENCE:3
DTSTAMP:20260422T221700Z
URL:https://members.greatbend.org/events/details/watching-young-artists-grow-show-1014
END:VEVENT

END:VCALENDAR
