BEGIN:VCALENDAR
VERSION:2.0
PRODID:-//ChamberMaster//Event Calendar 2.0//EN
METHOD:PUBLISH
X-PUBLISHED-TTL:P3D
REFRESH-INTERVAL:P3D
CALSCALE:GREGORIAN
BEGIN:VEVENT
DTSTART:20170410T161500Z
DTEND:20170410T180000Z
X-MICROSOFT-CDO-ALLDAYEVENT:FALSE
SUMMARY:Western Kansas Human Resource Management Association monthly meeting
DESCRIPTION:Western Kansas Human Resource Management Association (WKHRMA) will hold their May meeting on Wednesday\, May 10 at Thirsty's Banquet Room\, 2704 Vine St.\, Hays. Registration is between 11:15am - 11:30am with a short business meeting starting at 11:30am. The program for the May meeting will be "Fair Labor Standards Act (FLSA)" presented by Susan Lang\, Investigator\, US Department of Labor. This program is eligible for HRCI and SHRM continuing education credits. \n\n\n\nIf you are interested in attending the May meeting as a guest\, please RSVP to wkhrma@gmail.com. no later than Friday\, May 5th by noon. \n\n\n\nWKHRMA is an affiliate chapter of SHRM (Society for Human Resource Management)\, a local professional organization for persons engaged in personnel or human resource management. For more information on WKHRMA please check out the web site at www.wkhrma.org
X-ALT-DESC;FMTTYPE=text/html:<span style="color: rgb(13\, 6\, 0)\; font-family: Georgia\; font-size: 13.3333px\;">Western Kansas Human Resource Management Association (WKHRMA) will hold their May meeting on Wednesday\, May 10 at Thirsty&rsquo\;s Banquet Room\, 2704 Vine St.\, Hays. Registration is between 11:15am - 11:30am with a short business meeting starting at 11:30am. The program for the May meeting will be &ldquo\;Fair Labor Standards Act (FLSA)&rdquo\; presented by Susan Lang\, Investigator\, US Department of Labor. This program is eligible for HRCI and SHRM continuing education credits.&nbsp\;</span><br style="color: rgb(13\, 6\, 0)\; font-family: Georgia\; font-size: 13.3333px\;" />\n<br style="color: rgb(13\, 6\, 0)\; font-family: Georgia\; font-size: 13.3333px\;" />\n<span style="color: rgb(13\, 6\, 0)\; font-family: Georgia\; font-size: 13.3333px\;">If you are interested in attending the May meeting as a guest\, please RSVP to wkhrma@gmail.com. no later than Friday\, May 5th by noon.&nbsp\;</span><br style="color: rgb(13\, 6\, 0)\; font-family: Georgia\; font-size: 13.3333px\;" />\n<br style="color: rgb(13\, 6\, 0)\; font-family: Georgia\; font-size: 13.3333px\;" />\n<span style="color: rgb(13\, 6\, 0)\; font-family: Georgia\; font-size: 13.3333px\;">WKHRMA is an affiliate chapter of SHRM (Society for Human Resource Management)\, a local professional organization for persons engaged in personnel or human resource management. For more information on WKHRMA please check out the web site at www.wkhrma.org</span>
LOCATION:Thirsty's Banquet Room 2704 Vine St. Hays\, KS
UID:e.2303.1639
SEQUENCE:3
DTSTAMP:20260422T222225Z
URL:https://members.greatbend.org/events/details/western-kansas-human-resource-management-association-monthly-meeting-1639
END:VEVENT

END:VCALENDAR
