BEGIN:VCALENDAR
VERSION:2.0
PRODID:-//ChamberMaster//Event Calendar 2.0//EN
METHOD:PUBLISH
X-PUBLISHED-TTL:P3D
REFRESH-INTERVAL:P3D
CALSCALE:GREGORIAN
BEGIN:VEVENT
DTSTART:20171013T163000Z
DTEND:20171013T183000Z
X-MICROSOFT-CDO-ALLDAYEVENT:FALSE
SUMMARY:Wheatland Electric's Cram the Van Event
DESCRIPTION:Have lunch at the Great Bend Wheatland Electric Office and help us Cram the Van! Bring us a donation (cash or can) in return for a hot dog or brat\, chips and a drink. Donations go to the Barton County Food Bank. See you then!
X-ALT-DESC;FMTTYPE=text/html:Have lunch at the Great Bend Wheatland Electric Office and help us Cram the Van! Bring us a donation (cash or can) in return for a hot dog or brat\, chips and a drink. Donations go to the Barton County Food Bank. See you then!
LOCATION:2300 Broadway
UID:e.2303.3385
SEQUENCE:3
DTSTAMP:20260422T133030Z
URL:https://members.greatbend.org/events/details/wheatland-electric-s-cram-the-van-event-3385
END:VEVENT

END:VCALENDAR
