BEGIN:VCALENDAR
VERSION:2.0
PRODID:-//ChamberMaster//Event Calendar 2.0//EN
METHOD:PUBLISH
X-PUBLISHED-TTL:P3D
REFRESH-INTERVAL:P3D
CALSCALE:GREGORIAN
BEGIN:VEVENT
DTSTART;VALUE=DATE:20170428
DTEND;VALUE=DATE:20170430
TRANSP:TRANSPARENT
X-MICROSOFT-CDO-ALLDAYEVENT:TRUE
SUMMARY:Wings N Wetlands Festival
DESCRIPTION:The Kansas Wetlands Education Center\, along with Kansas Department of Wildlife Parks & Tourism\, The Nature Conservancy\, Great Bend Convention and Visitors Bureau\, and the Kansas Birding Festival\, Inc.\, hosts this 2-day birding festival every other year on odd numbered years.\n\n\n\nPaid registration for the festival includes three or four guided birding fieldtrips with transportation\, workshops and seminars\, breakfast\, 2 dinners\, and snacks. Events take place at the Kansas Wetlands Education Center at Cheyenne Bottoms and the Best Western Courtyard in Great Bend.
X-ALT-DESC;FMTTYPE=text/html:<span style="color: rgb(13\, 6\, 0)\; font-family: Georgia\; font-size: 13.3333px\;">The Kansas Wetlands Education Center\, along with Kansas Department of Wildlife Parks &amp\; Tourism\, The Nature Conservancy\, Great Bend Convention and Visitors Bureau\, and the Kansas Birding Festival\, Inc.\, hosts this 2-day birding festival every other year on odd numbered years.</span><br style="color: rgb(13\, 6\, 0)\; font-family: Georgia\; font-size: 13.3333px\;" />\n<br style="color: rgb(13\, 6\, 0)\; font-family: Georgia\; font-size: 13.3333px\;" />\n<span style="color: rgb(13\, 6\, 0)\; font-family: Georgia\; font-size: 13.3333px\;">Paid registration for the festival includes three or four guided birding fieldtrips with transportation\, workshops and seminars\, breakfast\, 2 dinners\, and snacks. Events take place at the Kansas Wetlands Education Center at Cheyenne Bottoms and the Best Western Courtyard in Great Bend.</span>
LOCATION:Kansas Wetlands Education Center 592 NE K-156 Highway
UID:e.2303.1224
SEQUENCE:3
DTSTAMP:20260422T221931Z
URL:https://members.greatbend.org/events/details/wings-n-wetlands-festival-1224
END:VEVENT

END:VCALENDAR
