BEGIN:VCALENDAR
VERSION:2.0
PRODID:-//ChamberMaster//Event Calendar 2.0//EN
METHOD:PUBLISH
X-PUBLISHED-TTL:P3D
REFRESH-INTERVAL:P3D
CALSCALE:GREGORIAN
BEGIN:VEVENT
DTSTART:20170809T161500Z
DTEND:20170809T180000Z
X-MICROSOFT-CDO-ALLDAYEVENT:FALSE
SUMMARY:WKHRMA presentation: "Employment Issues - The Good\, The Bad\, and the Lessons Learned!"
DESCRIPTION:Western Kansas Human Resource Management Association (WKHRMA) will hold their August meeting on Wednesday\, August 9th at Robbins Center FHSU One Tiger Place\, Hays\, Ks (Note NEW LOCATION).\n\n\n\nRegistration is between 11:15am - 11:30am with a short business meeting starting at 11:30am. The program for the August meeting will be "Employment Issues- The Good\, The Bad\, and the Lessons Learned!" presented by Mark Rondeau\, Watkins Calcara Chtd.. This program is eligible for HRCI and SHRM continuing education credits. \n\n\n\nIf you are interested in attending the August meeting as a guest\, please RSVP to wkhrma@gmail.com. no later than Friday August 4th by noon. \n\n\n\nWKHRMA is an affiliate chapter of SHRM (Society for Human Resource Management)\, a local professional organization for persons engaged in personnel or human resource management.\n\n\n\nFor more information on WKHRMA please check out the web site at http://www.wkhrma.shrm.org
X-ALT-DESC;FMTTYPE=text/html:<span style="color:#0D0600\;"><span style="font-family:georgia\,serif\;"><span style="font-size:10.0pt\;">Western Kansas Human Resource Management Association (WKHRMA) will hold their August meeting on Wednesday\, August 9th at Robbins Center FHSU One Tiger Place\, Hays\, Ks (Note NEW LOCATION).<br />\n<br />\nRegistration is between 11:15am - 11:30am with a short business meeting starting at 11:30am. The program for the August meeting will be &ldquo\;Employment Issues- The Good\, The Bad\, and the Lessons Learned!&rdquo\; presented by Mark Rondeau\, Watkins Calcara Chtd.. This program is eligible for HRCI and SHRM continuing education credits.&nbsp\;<br />\n<br />\nIf you are interested in attending the August meeting as a guest\, please RSVP to wkhrma@gmail.com. no later than Friday August 4th by noon.&nbsp\;<br />\n<br />\nWKHRMA is an affiliate chapter of SHRM (Society for Human Resource Management)\, a local professional organization for persons engaged in personnel or human resource management.<br />\n<br />\nFor more information on WKHRMA please check out the web site at http://www.wkhrma.shrm.org</span></span></span>
LOCATION:Robbins Center FHSU One Tiger Place Hays\, Ks
UID:e.2303.3025
SEQUENCE:3
DTSTAMP:20260422T160411Z
URL:https://members.greatbend.org/events/details/wkhrma-presentation-employment-issues-the-good-the-bad-and-the-lessons-learned-3025
END:VEVENT

END:VCALENDAR
