BEGIN:VCALENDAR
VERSION:2.0
PRODID:-//ChamberMaster//Event Calendar 2.0//EN
METHOD:PUBLISH
X-PUBLISHED-TTL:P3D
REFRESH-INTERVAL:P3D
CALSCALE:GREGORIAN
BEGIN:VEVENT
DTSTART:20170924T140000Z
DTEND:20170924T170000Z
X-MICROSOFT-CDO-ALLDAYEVENT:FALSE
SUMMARY:Women Rock Sunday
DESCRIPTION:The First United Methodist Church invites the community to celebrate "Women Rock Sunday" on September 24th with a special guest speaker\, Kelly Sisney. Sisney is "inspirationally hilarious\," and will provide a message of love\, laughter and the Lord! Kelly will speak at both the 9:00 AM and 11:00 AM worship services with a meet and greet reception in between. The community is invited to enjoy fellowship\, donuts & cappuccino before and after the worship services. About First UMC: Located at 2123 Forest Ave\, the mission of the First United Methodist Church is to develop & inspire passionate followers of Jesus Christ.
X-ALT-DESC;FMTTYPE=text/html:The First United Methodist Church invites the community to celebrate &ldquo\;Women Rock Sunday&rdquo\; on September 24th with a special guest speaker\, Kelly Sisney. Sisney is &ldquo\;inspirationally hilarious\,&rdquo\; and will provide a message of love\, laughter and the Lord! Kelly will speak at both the 9:00 AM and 11:00 AM worship services with a meet and greet reception in between. The community is invited to enjoy fellowship\, donuts &amp\; cappuccino before and after the worship services. About First UMC: Located at 2123 Forest Ave\, the mission of the First United Methodist Church is to develop &amp\; inspire passionate followers of Jesus Christ.
LOCATION:First United Methodist Church 2123 Forest Ave. Great Bend\, KS
UID:e.2303.3347
SEQUENCE:3
DTSTAMP:20260422T143845Z
URL:https://members.greatbend.org/events/details/women-rock-sunday-3347
END:VEVENT

END:VCALENDAR
