BEGIN:VCALENDAR
VERSION:2.0
PRODID:-//ChamberMaster//Event Calendar 2.0//EN
METHOD:PUBLISH
X-PUBLISHED-TTL:P3D
REFRESH-INTERVAL:P3D
CALSCALE:GREGORIAN
BEGIN:VEVENT
DTSTART:20180808T000000Z
DTEND:20180808T010000Z
X-MICROSOFT-CDO-ALLDAYEVENT:FALSE
SUMMARY:Wood Barn Quilt
DESCRIPTION:We will be painting a 12 x 12" wooden Barn Quilt. I have at least 12 patterns for you to choose from that you will trace onto your piece of wood and then paint. It is a great project for any crafting level. You will love your finished project. Come and check it out! There are sooo many options.
X-ALT-DESC;FMTTYPE=text/html:We will be painting a 12 x 12&quot\; wooden Barn Quilt. I have at least 12 patterns for you to choose from that you will trace onto your piece of wood and then paint. It is a great project for any crafting level. You will love your finished project. Come and check it out! There are sooo many options.
LOCATION:Dilly & Doc 1119 Main St. Great Bend\, KS
UID:e.2303.6084
SEQUENCE:3
DTSTAMP:20260422T082107Z
URL:https://members.greatbend.org/events/details/wood-barn-quilt-6084
END:VEVENT

END:VCALENDAR
