BEGIN:VCALENDAR
VERSION:2.0
PRODID:-//ChamberMaster//Event Calendar 2.0//EN
METHOD:PUBLISH
X-PUBLISHED-TTL:P3D
REFRESH-INTERVAL:P3D
CALSCALE:GREGORIAN
BEGIN:VEVENT
DTSTART:20171202T000000Z
DTEND:20171202T020000Z
X-MICROSOFT-CDO-ALLDAYEVENT:FALSE
SUMMARY:Yoga Central of Great Bend's Healthy Holiday Gathering
DESCRIPTION:From the Studio Fitness Professionals to you\, Danielle and Morgan welcome the community to the first ever Healthy Holiday Gathering\, taking place this Friday\, Dec. 1st\, at Yoga Central\, 6003 10th starting at 6 p.m.Yoga Central promotes a healthy living from the inside out. They support friends\, customers and the community by offering an opportunity to explore the Yoga and Pilates inspired classes at Yoga Central. Guests will have an opportunity to get to know the teachers\, ask questions and learn about the classes and support. The first 50 people will receive a beautiful gift bag full of goodies. Afterwards\, there will be a tour through the building to visit with friends and stress-busting community leaders\, and enjoy water\, wine and tasty treats. For questions\, contact Danielle Feist or Morgan Stevens at 620-617-4142.
X-ALT-DESC;FMTTYPE=text/html:<span style="font-family: Arial\; font-size: 12px\;">From the Studio Fitness Professionals to you\, Danielle and Morgan welcome the community to the first ever Healthy Holiday Gathering\, taking place this&nbsp\;</span><span class="aBn" data-term="goog_611052115" style="border-bottom: 1px dashed rgb(204\, 204\, 204)\; position: relative\; top: -2px\; z-index: 0\; font-family: Arial\; font-size: 12px\;" tabindex="0"><span class="aQJ" style="position: relative\; top: 2px\; z-index: -1\;">Friday\, Dec. 1st</span></span><span style="font-family: Arial\; font-size: 12px\;">\, at Yoga Central\, 6003 10th starting at&nbsp\;</span><span class="aBn" data-term="goog_611052116" style="border-bottom: 1px dashed rgb(204\, 204\, 204)\; position: relative\; top: -2px\; z-index: 0\; font-family: Arial\; font-size: 12px\;" tabindex="0"><span class="aQJ" style="position: relative\; top: 2px\; z-index: -1\;">6 p.m.</span></span><span style="font-family: Arial\; font-size: 12px\;">Yoga Central promotes a healthy living from the inside out. They support friends\, customers and the community by offering an opportunity to explore the Yoga and Pilates inspired classes at Yoga Central. Guests will have an opportunity to get to know the teachers\, ask questions and learn about the classes and support. The first 50 people will receive a beautiful gift bag full of goodies. Afterwards\, there will be a tour through the building to visit with friends and stress-busting community leaders\, and enjoy water\, wine and tasty treats. For questions\, contact Danielle Feist or Morgan Stevens at&nbsp\;</span><a href="tel:(620)%20617-4142" style="color: rgb(17\, 85\, 204)\; font-family: Arial\; font-size: 12px\;" target="_blank" value="+16206174142">620-617-4142</a><span style="font-family: Arial\; font-size: 12px\;">.</span>
LOCATION:6003 10th Street Great Bend\, KS
UID:e.2303.3501
SEQUENCE:3
DTSTAMP:20260420T110252Z
URL:https://members.greatbend.org/events/details/yoga-central-of-great-bend-s-healthy-holiday-gathering-3501
END:VEVENT

END:VCALENDAR
