BEGIN:VCALENDAR
VERSION:2.0
PRODID:-//ChamberMaster//Event Calendar 2.0//EN
METHOD:PUBLISH
X-PUBLISHED-TTL:P3D
REFRESH-INTERVAL:P3D
CALSCALE:GREGORIAN
BEGIN:VEVENT
DTSTART:20170304T160000Z
DTEND:20170304T220000Z
X-MICROSOFT-CDO-ALLDAYEVENT:FALSE
SUMMARY:Young Professionals Charity Supply Drive
DESCRIPTION:The Barton County Young Professionals group will host their Annual Charity Supply Drive on Saturday\, March 4th from 10 a.m. to 4 p.m. at 3 location in Great Bend. The growing networking organization is operated under the Chamber of Commerce\, and strives to accomplish three goals: LEAD. NETWORK. VOLUNTEER.\n\n\n\nShoppers at Walmart & both the Downtown & 10th Street Dillons locations are asked to purchase items for area charities (information will be provided in a handout on the day of the event). Cash donations will also be accepted.\n\n\n\nFor more information about the Barton County Young Professionals program or to get involved\, contact Andrea Bauer at the Great Bend Chamber\, 620-792-2401.\n\n\n\nDate - Mar 04\, 2017 \n\nTime - Between 10:00 AM and 04:00 PM \n\nType - Chamber Event \n\nCommunity - Great Bend \n\nLocation - Wal-Mart Supercenter\n\nDillons on Main\n\nDillons on 10th \n\nAddress - Great Bend\, KS \n\nEmail - bartonyp@gmail.com \n\nWebsite - www.bartonyp.com
X-ALT-DESC;FMTTYPE=text/html:<span style="color: rgb(13\, 6\, 0)\; font-family: Georgia\; font-size: 13.3333px\;">The Barton County Young Professionals group will host their Annual Charity Supply Drive on Saturday\, March 4th from 10 a.m. to 4 p.m. at 3 location in Great Bend. The growing networking organization is operated under the Chamber of Commerce\, and strives to accomplish three goals: LEAD. NETWORK. VOLUNTEER.</span><br style="color: rgb(13\, 6\, 0)\; font-family: Georgia\; font-size: 13.3333px\;" />\n<br style="color: rgb(13\, 6\, 0)\; font-family: Georgia\; font-size: 13.3333px\;" />\n<span style="color: rgb(13\, 6\, 0)\; font-family: Georgia\; font-size: 13.3333px\;">Shoppers at Walmart &amp\; both the Downtown &amp\; 10th Street Dillons locations are asked to purchase items for area charities (information will be provided in a handout on the day of the event). Cash donations will also be accepted.</span><br style="color: rgb(13\, 6\, 0)\; font-family: Georgia\; font-size: 13.3333px\;" />\n<br style="color: rgb(13\, 6\, 0)\; font-family: Georgia\; font-size: 13.3333px\;" />\n<span style="color: rgb(13\, 6\, 0)\; font-family: Georgia\; font-size: 13.3333px\;">For more information about the Barton County Young Professionals program or to get involved\, contact Andrea Bauer at the Great Bend Chamber\, 620-792-2401.</span><br style="color: rgb(13\, 6\, 0)\; font-family: Georgia\; font-size: 13.3333px\;" />\n<br style="color: rgb(13\, 6\, 0)\; font-family: Georgia\; font-size: 13.3333px\;" />\n<span style="color: rgb(13\, 6\, 0)\; font-family: Georgia\; font-size: 13.3333px\;">Date - Mar 04\, 2017&nbsp\;</span><br style="color: rgb(13\, 6\, 0)\; font-family: Georgia\; font-size: 13.3333px\;" />\n<span style="color: rgb(13\, 6\, 0)\; font-family: Georgia\; font-size: 13.3333px\;">Time - Between 10:00 AM and 04:00 PM&nbsp\;</span><br style="color: rgb(13\, 6\, 0)\; font-family: Georgia\; font-size: 13.3333px\;" />\n<span style="color: rgb(13\, 6\, 0)\; font-family: Georgia\; font-size: 13.3333px\;">Type - Chamber Event&nbsp\;</span><br style="color: rgb(13\, 6\, 0)\; font-family: Georgia\; font-size: 13.3333px\;" />\n<span style="color: rgb(13\, 6\, 0)\; font-family: Georgia\; font-size: 13.3333px\;">Community - Great Bend&nbsp\;</span><br style="color: rgb(13\, 6\, 0)\; font-family: Georgia\; font-size: 13.3333px\;" />\n<span style="color: rgb(13\, 6\, 0)\; font-family: Georgia\; font-size: 13.3333px\;">Location - Wal-Mart Supercenter</span><br style="color: rgb(13\, 6\, 0)\; font-family: Georgia\; font-size: 13.3333px\;" />\n<span style="color: rgb(13\, 6\, 0)\; font-family: Georgia\; font-size: 13.3333px\;">Dillons on Main</span><br style="color: rgb(13\, 6\, 0)\; font-family: Georgia\; font-size: 13.3333px\;" />\n<span style="color: rgb(13\, 6\, 0)\; font-family: Georgia\; font-size: 13.3333px\;">Dillons on 10th&nbsp\;</span><br style="color: rgb(13\, 6\, 0)\; font-family: Georgia\; font-size: 13.3333px\;" />\n<span style="color: rgb(13\, 6\, 0)\; font-family: Georgia\; font-size: 13.3333px\;">Address - Great Bend\, KS&nbsp\;</span><br style="color: rgb(13\, 6\, 0)\; font-family: Georgia\; font-size: 13.3333px\;" />\n<span style="color: rgb(13\, 6\, 0)\; font-family: Georgia\; font-size: 13.3333px\;">Email -&nbsp\;</span><a href="mailto:bartonyp@gmail.com" style="font-family: Georgia\; font-size: 13.3333px\;">bartonyp@gmail.com</a><span style="color: rgb(13\, 6\, 0)\; font-family: Georgia\; font-size: 13.3333px\;">&nbsp\;</span><br style="color: rgb(13\, 6\, 0)\; font-family: Georgia\; font-size: 13.3333px\;" />\n<span style="color: rgb(13\, 6\, 0)\; font-family: Georgia\; font-size: 13.3333px\;">Website -&nbsp\;</span><a href="http://www.bartonyp.com/" style="font-family: Georgia\; font-size: 13.3333px\;" target="_blank">www.bartonyp.com</a>
LOCATION:
UID:e.2303.1726
SEQUENCE:3
DTSTAMP:20260422T234629Z
URL:https://members.greatbend.org/events/details/young-professionals-charity-supply-drive-1726
END:VEVENT

END:VCALENDAR
